BEGIN:VCALENDAR
VERSION:2.0
PRODID:-//Date iCal//NONSGML kigkonsult.se iCalcreator 2.20.2//
METHOD:PUBLISH
BEGIN:VTIMEZONE
TZID:America/New_York
BEGIN:STANDARD
DTSTART:20251102T020000
TZOFFSETFROM:-0400
TZOFFSETTO:-0500
TZNAME:EST
END:STANDARD
BEGIN:DAYLIGHT
DTSTART:20260308T020000
TZOFFSETFROM:-0500
TZOFFSETTO:-0400
TZNAME:EDT
END:DAYLIGHT
END:VTIMEZONE
BEGIN:VEVENT
UID:calendar.1928.events_uoft_date.0@www.psych.utoronto.ca
CREATED:20260123T193426Z
DESCRIPTION:\nWhen and Where: \nFriday, February 13, 2026 12:10 pm to 1:3
 0 pm \n Psychology Lounge; Room 4043 \n Sidney Smith Hall \n 100 St. Geor
 ge Street \n\nSpeakers \nSimone Falk, University of Montreal \n\nDescript
 ion: \nLearning to perform music and to speak fluently both rely on the ac
 quisition of extremely precise auditory-motor skills. This process is grea
 tly facilitated by the development of accurate temporal predictions – a fu
 ndamental mechanism underlying rhythm perception and production in both la
 nguage and music. When the capacity to generate precise temporal predictio
 ns is altered, fluent speech production can become challenging. This is t
 he case in stuttering, a neurodevelopmental, early-onset speech fluency 
 disorder which affects around 5-10% of children and adolescents. Using stu
 ttering as an example, this talk addresses the question of how musical rh
 ythm relates to speech motor skills during development. Moreover, it expl
 ores how musical rhythm might be harnessed to support the acquisition of s
 peech motor skills in (pre)adolescents who stutter. Drawing on data from s
 everal studies conducted in Munich (Germany) and Montreal (Canada) with ap
 proximately 200 children and adolescents who do and do not stutter, we wi
 ll examine a) musical and rhythmic differences between these groups, b) l
 inks between speech rate development and sensorimotor synchronization and 
 c) the potential of rhythm training to support speech motor skills in stut
 tering. Overall, this talk provides insights into an underexplored area o
 f stuttering research and seeks to stimulate broader discussion on the int
 erconnectedness of body, mind, language, and music.We encourage in-pers
 on attendance, but if you are unable to attend in person, please join us
  via this Zoom link. \n100 St. George Street \n\nCategories \n Development
 al Interest Group (DIG) \n\nAudiences \n All
DTSTART;TZID=America/New_York:20260213T121000
DTEND;TZID=America/New_York:20260213T133000
LAST-MODIFIED:20260211T151008Z
LOCATION:100 St. George Street
SUMMARY:Investigating the Link Between Musical and Speech Rhythms: Insights
  from Developmental Stuttering
URL;TYPE=URI:https://www.psych.utoronto.ca/events/investigating-link-betwee
 n-musical-and-speech-rhythms-insights-developmental-stuttering
END:VEVENT
END:VCALENDAR
